Workbook

Sheet Foglio1
C4: Anno 2014-2015 | D4: Altezza a mezzodì (valore preciso) | G4: Altezza a mezzodì (valore preciso) | H4: Altezza a mezzodì (simulazione) | I4: Altezza a mezzodì (approssimazione quarti di grado) | J4: Declinazione mezzodì | M4: Latitudine Roma | P4: Latitudine Roma | Q4: Latitudine Roma (approssimazione quarti grado)
C5: giorno | D5: gradi | E5: primi | F5: secondi | G5: gradi decimali | H5: gradi decimali | I5: gradi decimali | J5: gradi decimali | M5: gradi | N5: primi | O5: secondi | P5: gradi decimali | Q5: gradi decimali
C6: 41698 | D6: 40 | E6: 13 | F6: 42.1 | G6: =D6+E6/60+F6/3600 -> 40.228361 | H6: =SQRT(-2*LN(RAND()))*COS(2*PI()*RAND())*$E$48+G6 -> 40.08613 | I6: =IF(ABS(INT(H6/$E$48)*$E$48-H6)<= ABS((INT(H6/$E$48)+1)*$E$48-H6),INT(H6/$E$48)*$E$48,(INT(H6/$E$48)+1)*$E$48) -> 40 | J6: =I6-90+$Q$6 -> -8 | M6: 41 | N6: 54 | O6: 30.95 | P6: 41.908597 | Q6: 42
C7: 41699 | D7: 40 | E7: 36 | F7: 27 | G7: =D7+E7/60+F7/3600 -> 40.6075 | H7: =SQRT(-2*LN(RAND()))*COS(2*PI()*RAND())*$E$48+G7 -> 40.541421 | I7: =IF(ABS(INT(H7/$E$48)*$E$48-H7)<= ABS((INT(H7/$E$48)+1)*$E$48-H7),INT(H7/$E$48)*$E$48,(INT(H7/$E$48)+1)*$E$48) -> 40.5 | J7: =I7-90+$Q$6 -> -7.5
C8: 41700 | D8: 40 | E8: 59 | F8: 18.5 | G8: =D8+E8/60+F8/3600 -> 40.988472 | H8: =SQRT(-2*LN(RAND()))*COS(2*PI()*RAND())*$E$48+G8 -> 41.281317 | I8: =IF(ABS(INT(H8/$E$48)*$E$48-H8)<= ABS((INT(H8/$E$48)+1)*$E$48-H8),INT(H8/$E$48)*$E$48,(INT(H8/$E$48)+1)*$E$48) -> 41.25 | J8: =I8-90+$Q$6 -> -6.75
C9: 41701 | D9: 41 | E9: 22 | F9: 16 | G9: =D9+E9/60+F9/3600 -> 41.371111 | H9: =SQRT(-2*LN(RAND()))*COS(2*PI()*RAND())*$E$48+G9 -> 41.333549 | I9: =IF(ABS(INT(H9/$E$48)*$E$48-H9)<= ABS((INT(H9/$E$48)+1)*$E$48-H9),INT(H9/$E$48)*$E$48,(INT(H9/$E$48)+1)*$E$48) -> 41.25 | J9: =I9-90+$Q$6 -> -6.75
C10: 41702 | D10: 41 | E10: 45 | F10: 19.1 | G10: =D10+E10/60+F10/3600 -> 41.755306 | H10: =SQRT(-2*LN(RAND()))*COS(2*PI()*RAND())*$E$48+G10 -> 42.050375 | I10: =IF(ABS(INT(H10/$E$48)*$E$48-H10)<= ABS((INT(H10/$E$48)+1)*$E$48-H10),INT(H10/$E$48)*$E$48,(INT(H10/$E$48)+1)*$E$48) -> 42 | J10: =I10-90+$Q$6 -> -6
C11: 41703 | D11: 42 | E11: 8 | F11: 27.4 | G11: =D11+E11/60+F11/3600 -> 42.140944 | H11: =SQRT(-2*LN(RAND()))*COS(2*PI()*RAND())*$E$48+G11 -> 42.177263 | I11: =IF(ABS(INT(H11/$E$48)*$E$48-H11)<= ABS((INT(H11/$E$48)+1)*$E$48-H11),INT(H11/$E$48)*$E$48,(INT(H11/$E$48)+1)*$E$48) -> 42.25 | J11: =I11-90+$Q$6 -> -5.75
C12: 41704 | D12: 42 | E12: 31 | F12: 40.6 | G12: =D12+E12/60+F12/3600 -> 42.527944 | H12: =SQRT(-2*LN(RAND()))*COS(2*PI()*RAND())*$E$48+G12 -> 42.146154 | I12: =IF(ABS(INT(H12/$E$48)*$E$48-H12)<= ABS((INT(H12/$E$48)+1)*$E$48-H12),INT(H12/$E$48)*$E$48,(INT(H12/$E$48)+1)*$E$48) -> 42.25 | J12: =I12-90+$Q$6 -> -5.75
C13: 41705 | D13: 42 | E13: 54 | F13: 58.3 | G13: =D13+E13/60+F13/3600 -> 42.916194 | H13: =SQRT(-2*LN(RAND()))*COS(2*PI()*RAND())*$E$48+G13 -> 43.172634 | I13: =IF(ABS(INT(H13/$E$48)*$E$48-H13)<= ABS((INT(H13/$E$48)+1)*$E$48-H13),INT(H13/$E$48)*$E$48,(INT(H13/$E$48)+1)*$E$48) -> 43.25 | J13: =I13-90+$Q$6 -> -4.75
C14: 41706 | D14: 43 | E14: 18 | F14: 20 | G14: =D14+E14/60+F14/3600 -> 43.305556 | H14: =SQRT(-2*LN(RAND()))*COS(2*PI()*RAND())*$E$48+G14 -> 43.087416 | I14: =IF(ABS(INT(H14/$E$48)*$E$48-H14)<= ABS((INT(H14/$E$48)+1)*$E$48-H14),INT(H14/$E$48)*$E$48,(INT(H14/$E$48)+1)*$E$48) -> 43 | J14: =I14-90+$Q$6 -> -5
C15: 41707 | D15: 43 | E15: 41 | F15: 45.4 | G15: =D15+E15/60+F15/3600 -> 43.695944 | H15: =SQRT(-2*LN(RAND()))*COS(2*PI()*RAND())*$E$48+G15 -> 43.744738 | I15: =IF(ABS(INT(H15/$E$48)*$E$48-H15)<= ABS((INT(H15/$E$48)+1)*$E$48-H15),INT(H15/$E$48)*$E$48,(INT(H15/$E$48)+1)*$E$48) -> 43.75 | J15: =I15-90+$Q$6 -> -4.25
C16: 41708 | D16: 44 | E16: 5 | F16: 14.2 | G16: =D16+E16/60+F16/3600 -> 44.087278 | H16: =SQRT(-2*LN(RAND()))*COS(2*PI()*RAND())*$E$48+G16 -> 44.024973 | I16: =IF(ABS(INT(H16/$E$48)*$E$48-H16)<= ABS((INT(H16/$E$48)+1)*$E$48-H16),INT(H16/$E$48)*$E$48,(INT(H16/$E$48)+1)*$E$48) -> 44 | J16: =I16-90+$Q$6 -> -4
C17: 41709 | D17: 44 | E17: 28 | F17: 45.7 | G17: =D17+E17/60+F17/3600 -> 44.479361 | H17: =SQRT(-2*LN(RAND()))*COS(2*PI()*RAND())*$E$48+G17 -> 44.995492 | I17: =IF(ABS(INT(H17/$E$48)*$E$48-H17)<= ABS((INT(H17/$E$48)+1)*$E$48-H17),INT(H17/$E$48)*$E$48,(INT(H17/$E$48)+1)*$E$48) -> 45 | J17: =I17-90+$Q$6 -> -3
C18: 41710 | D18: 44 | E18: 52 | F18: 19.9 | G18: =D18+E18/60+F18/3600 -> 44.872194 | H18: =SQRT(-2*LN(RAND()))*COS(2*PI()*RAND())*$E$48+G18 -> 44.822353 | I18: =IF(ABS(INT(H18/$E$48)*$E$48-H18)<= ABS((INT(H18/$E$48)+1)*$E$48-H18),INT(H18/$E$48)*$E$48,(INT(H18/$E$48)+1)*$E$48) -> 44.75 | J18: =I18-90+$Q$6 -> -3.25
... C46: 41738 | D46: 55 | E46: 39 | F46: 55.7 | G46: =D46+E46/60+F46/3600 -> 55.665472 | H46: =SQRT(-2*LN(RAND()))*COS(2*PI()*RAND())*$E$48+G46 -> 55.76225 | I46: =IF(ABS(INT(H46/$E$48)*$E$48-H46)<= ABS((INT(H46/$E$48)+1)*$E$48-H46),INT(H46/$E$48)*$E$48,(INT(H46/$E$48)+1)*$E$48) -> 55.75 | J46: =I46-90+$Q$6 -> 7.75
C48: Dev.Standard = | E48: 0.25

Sheet Foglio2
C4: giorno (mezzodì) xk | D4: declinazione yk | E4: xk * yk | F4: xk * xk | G4: yk * yk
B5: 41698 | C5: 0 | D5: -7.5 | E5: =C5*D5 -> 0 | F5: =C5^2 -> 0 | G5: =D5^2 -> 56.25
B6: 41699 | C6: 1 | D6: -7 | E6: =C6*D6 -> -7 | F6: =C6^2 -> 1 | G6: =D6^2 -> 49 | I6: sigmay = | J6: =Foglio3!D48 -> 0.2342289
B7: 41700 | C7: 2 | D7: -6.75 | E7: =C7*D7 -> -13.5 | F7: =C7^2 -> 4 | G7: =D7^2 -> 45.5625
B8: 41701 | C8: 3 | D8: -6.5 | E8: =C8*D8 -> -19.5 | F8: =C8^2 -> 9 | G8: =D8^2 -> 42.25
B9: 41702 | C9: 4 | D9: -6.5 | E9: =C9*D9 -> -26 | F9: =C9^2 -> 16 | G9: =D9^2 -> 42.25 | I9: m = | J9: =(41*E48-C48*D48)/(41*F48-C48^2) -> 0.38170732
B10: 41703 | C10: 5 | D10: -5.75 | E10: =C10*D10 -> -28.75 | F10: =C10^2 -> 25 | G10: =D10^2 -> 33.0625 | I10: q = | J10: =(D48*F48-C48*E48)/(41*F48-C48^2) -> -7.6707317
B11: 41704 | C11: 6 | D11: -5.5 | E11: =C11*D11 -> -33 | F11: =C11^2 -> 36 | G11: =D11^2 -> 30.25
B12: 41705 | C12: 7 | D12: -5.25 | E12: =C12*D12 -> -36.75 | F12: =C12^2 -> 49 | G12: =D12^2 -> 27.5625 | I12: sigma_q = | J12: =SQRT((J6^2*F48)/(41*F48-C48^2)) -> 0.071842495
B13: 41706 | C13: 8 | D13: -4.5 | E13: =C13*D13 -> -36 | F13: =C13^2 -> 64 | G13: =D13^2 -> 20.25 | I13: sigma_m = | J13: =SQRT((41*J6^2)/(41*F48-C48^2)) -> 0.0030916088
B14: 41707 | C14: 9 | D14: -4.25 | E14: =C14*D14 -> -38.25 | F14: =C14^2 -> 81 | G14: =D14^2 -> 18.0625
B15: 41708 | C15: 10 | D15: -4.25 | E15: =C15*D15 -> -42.5 | F15: =C15^2 -> 100 | G15: =D15^2 -> 18.0625
B16: 41709 | C16: 11 | D16: -3.25 | E16: =C16*D16 -> -35.75 | F16: =C16^2 -> 121 | G16: =D16^2 -> 10.5625 | I16: te = | J16: =-J10/J9 -> 20.095847
B17: 41710 | C17: 12 | D17: -2.75 | E17: =C17*D17 -> -33 | F17: =C17^2 -> 144 | G17: =D17^2 -> 7.5625 | I17: sigma_te = | J17: =(J13/J9+ABS(J12/J10))*J16 -> 0.35097831
B18: 41711 | C18: 13 | D18: -2.25 | E18: =C18*D18 -> -29.25 | F18: =C18^2 -> 169 | G18: =D18^2 -> 5.0625
B19: 41712 | C19: 14 | D19: -2.25 | E19: =C19*D19 -> -31.5 | F19: =C19^2 -> 196 | G19: =D19^2 -> 5.0625
B20: 41713 | C20: 15 | D20: -2.25 | E20: =C20*D20 -> -33.75 | F20: =C20^2 -> 225 | G20: =D20^2 -> 5.0625
B21: 41714 | C21: 16 | D21: -1.5 | E21: =C21*D21 -> -24 | F21: =C21^2 -> 256 | G21: =D21^2 -> 2.25 | I21: te = | J21: 41718.6
B22: 41715 | C22: 17 | D22: -1.25 | E22: =C22*D22 -> -21.25 | F22: =C22^2 -> 289 | G22: =D22^2 -> 1.5625 | I22: incertezza = | J22: 8h 24min
B23: 41716 | C23: 18 | D23: -1.25 | E23: =C23*D23 -> -22.5 | F23: =C23^2 -> 324 | G23: =D23^2 -> 1.5625
B24: 41717 | C24: 19 | D24: -0.5 | E24: =C24*D24 -> -9.5 | F24: =C24^2 -> 361 | G24: =D24^2 -> 0.25
B25: 41718 | C25: 20 | D25: 0 | E25: =C25*D25 -> 0 | F25: =C25^2 -> 400 | G25: =D25^2 -> 0
B26: 41719 | C26: 21 | D26: 0.25 | E26: =C26*D26 -> 5.25 | F26: =C26^2 -> 441 | G26: =D26^2 -> 0.0625
B27: 41720 | C27: 22 | D27: 1 | E27: =C27*D27 -> 22 | F27: =C27^2 -> 484 | G27: =D27^2 -> 1
B28: 41721 | C28: 23 | D28: 1 | E28: =C28*D28 -> 23 | F28: =C28^2 -> 529 | G28: =D28^2 -> 1
B29: 41722 | C29: 24 | D29: 1.25 | E29: =C29*D29 -> 30 | F29: =C29^2 -> 576 | G29: =D29^2 -> 1.5625
B30: 41723 | C30: 25 | D30: 2 | E30: =C30*D30 -> 50 | F30: =C30^2 -> 625 | G30: =D30^2 -> 4
B31: 41724 | C31: 26 | D31: 2.25 | E31: =C31*D31 -> 58.5 | F31: =C31^2 -> 676 | G31: =D31^2 -> 5.0625
B32: 41725 | C32: 27 | D32: 2.5 | E32: =C32*D32 -> 67.5 | F32: =C32^2 -> 729 | G32: =D32^2 -> 6.25
B33: 41726 | C33: 28 | D33: 2.75 | E33: =C33*D33 -> 77 | F33: =C33^2 -> 784 | G33: =D33^2 -> 7.5625
B34: 41727 | C34: 29 | D34: 3.75 | E34: =C34*D34 -> 108.75 | F34: =C34^2 -> 841 | G34: =D34^2 -> 14.0625
... B45: 41738 | C45: 40 | D45: 8 | E45: =C45*D45 -> 320 | F45: =C45^2 -> 1600 | G45: =D45^2 -> 64
C47: sum xk | D47: sum yk | E47: sum xk * yk | F47: sum xk * xk | G47: sum yk*yk
C48: =SUM(C5:C45) -> 820 | D48: =SUM(D5:D45) -> -1.5 | E48: =SUM(E5:E45) -> 2161 | F48: =SUM(F5:F45) -> 22140 | G48: =SUM(G5:G45) -> 838.625

Sheet Foglio3
B4: giorno (mezzodì) xk | C4: declinazione yk
B5: 0 | C5: -7.5 | D5: =(C5-Foglio2!$J$10-Foglio2!$J$9*B5)^2 -> 0.029149316
B6: 1 | C6: -7 | D6: =(C6-Foglio2!$J$10-Foglio2!$J$9*B6)^2 -> 0.083535098
B7: 2 | C7: -6.75 | D7: =(C7-Foglio2!$J$10-Foglio2!$J$9*B7)^2 -> 0.024748662
B8: 3 | C8: -6.5 | D8: =(C8-Foglio2!$J$10-Foglio2!$J$9*B8)^2 -> 0.00065585961
B9: 4 | C9: -6.5 | D9: =(C9-Foglio2!$J$10-Foglio2!$J$9*B9)^2 -> 0.12680547
B10: 5 | C10: -5.75 | D10: =(C10-Foglio2!$J$10-Foglio2!$J$9*B10)^2 -> 0.000148721
B11: 6 | C11: -5.5 | D11: =(C11-Foglio2!$J$10-Foglio2!$J$9*B11)^2 -> 0.014283165
B12: 7 | C12: -5.25 | D12: =(C12-Foglio2!$J$10-Foglio2!$J$9*B12)^2 -> 0.063111243
B13: 8 | C13: -4.5 | D13: =(C13-Foglio2!$J$10-Foglio2!$J$9*B13)^2 -> 0.013706127
B14: 9 | C14: -4.25 | D14: =(C14-Foglio2!$J$10-Foglio2!$J$9*B14)^2 -> 0.00021415824
B15: 10 | C15: -4.25 | D15: =(C15-Foglio2!$J$10-Foglio2!$J$9*B15)^2 -> 0.15708656
B16: 11 | C16: -3.25 | D16: =(C16-Foglio2!$J$10-Foglio2!$J$9*B16)^2 -> 0.049262344
... B45: 40 | C45: 8 | D45: =(C45-Foglio2!$J$10-Foglio2!$J$9*B45)^2 -> 0.16195717
D47: devsty
D48: =SQRT(SUM(D5:D45)/41) -> 0.2342289

Sheet Foglio4
C4: giorno (mezzodì) xk | D4: declinazione yk | E4: xk * yk | F4: xk * xk | G4: yk * yk
B5: 41698 | C5: 0 | D5: -8 | E5: =C5*D5 -> 0 | F5: =C5^2 -> 0 | G5: =D5^2 -> 64
B6: 41699 | C6: 1 | D6: -7.25 | E6: =C6*D6 -> -7.25 | F6: =C6^2 -> 1 | G6: =D6^2 -> 52.5625 | I6: sigmay = | J6: =Foglio5!D48 -> 0.26615796
B7: 41700 | C7: 2 | D7: -7 | E7: =C7*D7 -> -14 | F7: =C7^2 -> 4 | G7: =D7^2 -> 49
B8: 41701 | C8: 3 | D8: -6.25 | E8: =C8*D8 -> -18.75 | F8: =C8^2 -> 9 | G8: =D8^2 -> 39.0625
B9: 41702 | C9: 4 | D9: -6.25 | E9: =C9*D9 -> -25 | F9: =C9^2 -> 16 | G9: =D9^2 -> 39.0625 | I9: m = | J9: =(41*E48-C48*D48)/(41*F48-C48^2) -> 0.39041812
B10: 41703 | C10: 5 | D10: -5.75 | E10: =C10*D10 -> -28.75 | F10: =C10^2 -> 25 | G10: =D10^2 -> 33.0625 | I10: q = | J10: =(D48*F48-C48*E48)/(41*F48-C48^2) -> -7.771777
B11: 41704 | C11: 6 | D11: -5.25 | E11: =C11*D11 -> -31.5 | F11: =C11^2 -> 36 | G11: =D11^2 -> 27.5625
B12: 41705 | C12: 7 | D12: -5 | E12: =C12*D12 -> -35 | F12: =C12^2 -> 49 | G12: =D12^2 -> 25 | I12: sigma_q = | J12: =SQRT((J6^2*F48)/(41*F48-C48^2)) -> 0.081635752
B13: 41706 | C13: 8 | D13: -5 | E13: =C13*D13 -> -40 | F13: =C13^2 -> 64 | G13: =D13^2 -> 25 | I13: sigma_m = | J13: =SQRT((41*J6^2)/(41*F48-C48^2)) -> 0.0035130434
B14: 41707 | C14: 9 | D14: -4.5 | E14: =C14*D14 -> -40.5 | F14: =C14^2 -> 81 | G14: =D14^2 -> 20.25
B15: 41708 | C15: 10 | D15: -3.75 | E15: =C15*D15 -> -37.5 | F15: =C15^2 -> 100 | G15: =D15^2 -> 14.0625
B16: 41709 | C16: 11 | D16: -3.75 | E16: =C16*D16 -> -41.25 | F16: =C16^2 -> 121 | G16: =D16^2 -> 14.0625 | I16: te = | J16: =-J10/J9 -> 19.906292
B17: 41710 | C17: 12 | D17: -3 | E17: =C17*D17 -> -36 | F17: =C17^2 -> 144 | G17: =D17^2 -> 9 | I17: sigma_te = | J17: =(J13/J9+ABS(J12/J10))*J16 -> 0.3882182
B18: 41711 | C18: 13 | D18: -3 | E18: =C18*D18 -> -39 | F18: =C18^2 -> 169 | G18: =D18^2 -> 9
B19: 41712 | C19: 14 | D19: -2.5 | E19: =C19*D19 -> -35 | F19: =C19^2 -> 196 | G19: =D19^2 -> 6.25
B20: 41713 | C20: 15 | D20: -2 | E20: =C20*D20 -> -30 | F20: =C20^2 -> 225 | G20: =D20^2 -> 4
B21: 41714 | C21: 16 | D21: -1.75 | E21: =C21*D21 -> -28 | F21: =C21^2 -> 256 | G21: =D21^2 -> 3.0625 | I21: te = | J21: 41718.417
B22: 41715 | C22: 17 | D22: -1 | E22: =C22*D22 -> -17 | F22: =C22^2 -> 289 | G22: =D22^2 -> 1 | I22: incertezza = | J22: 9h 19m
B23: 41716 | C23: 18 | D23: -0.75 | E23: =C23*D23 -> -13.5 | F23: =C23^2 -> 324 | G23: =D23^2 -> 0.5625
B24: 41717 | C24: 19 | D24: -0.25 | E24: =C24*D24 -> -4.75 | F24: =C24^2 -> 361 | G24: =D24^2 -> 0.0625
B25: 41718 | C25: 20 | D25: 0.25 | E25: =C25*D25 -> 5 | F25: =C25^2 -> 400 | G25: =D25^2 -> 0.0625
B26: 41719 | C26: 21 | D26: 0.5 | E26: =C26*D26 -> 10.5 | F26: =C26^2 -> 441 | G26: =D26^2 -> 0.25
B27: 41720 | C27: 22 | D27: 0.5 | E27: =C27*D27 -> 11 | F27: =C27^2 -> 484 | G27: =D27^2 -> 0.25
B28: 41721 | C28: 23 | D28: 1.25 | E28: =C28*D28 -> 28.75 | F28: =C28^2 -> 529 | G28: =D28^2 -> 1.5625
B29: 41722 | C29: 24 | D29: 1.5 | E29: =C29*D29 -> 36 | F29: =C29^2 -> 576 | G29: =D29^2 -> 2.25
B30: 41723 | C30: 25 | D30: 2.5 | E30: =C30*D30 -> 62.5 | F30: =C30^2 -> 625 | G30: =D30^2 -> 6.25
B31: 41724 | C31: 26 | D31: 2.75 | E31: =C31*D31 -> 71.5 | F31: =C31^2 -> 676 | G31: =D31^2 -> 7.5625
B32: 41725 | C32: 27 | D32: 2.75 | E32: =C32*D32 -> 74.25 | F32: =C32^2 -> 729 | G32: =D32^2 -> 7.5625
B33: 41726 | C33: 28 | D33: 3.75 | E33: =C33*D33 -> 105 | F33: =C33^2 -> 784 | G33: =D33^2 -> 14.0625
B34: 41727 | C34: 29 | D34: 3.75 | E34: =C34*D34 -> 108.75 | F34: =C34^2 -> 841 | G34: =D34^2 -> 14.0625
... B45: 41738 | C45: 40 | D45: 7.5 | E45: =C45*D45 -> 300 | F45: =C45^2 -> 1600 | G45: =D45^2 -> 56.25
C47: sum xk | D47: sum yk | E47: sum xk * yk | F47: sum xk * xk | G47: sum yk*yk
C48: =SUM(C5:C45) -> 820 | D48: =SUM(D5:D45) -> 1.5 | E48: =SUM(E5:E45) -> 2271 | F48: =SUM(F5:F45) -> 22140 | G48: =SUM(G5:G45) -> 877.5

Sheet Foglio5
B4: giorno (mezzodì) xk | C4: declinazione yk
B5: 0 | C5: -7.5 | D5: =(C5-Foglio4!$J$10-Foglio4!$J$9*B5)^2 -> 0.07386274
B6: 1 | C6: -7 | D6: =(C6-Foglio4!$J$10-Foglio4!$J$9*B6)^2 -> 0.1454346
B7: 2 | C7: -6.75 | D7: =(C7-Foglio4!$J$10-Foglio4!$J$9*B7)^2 -> 0.058052453
B8: 3 | C8: -6.5 | D8: =(C8-Foglio4!$J$10-Foglio4!$J$9*B8)^2 -> 0.010104803
B9: 4 | C9: -6.5 | D9: =(C9-Foglio4!$J$10-Foglio4!$J$9*B9)^2 -> 0.084039384
B10: 5 | C10: -5.75 | D10: =(C10-Foglio4!$J$10-Foglio4!$J$9*B10)^2 -> 0.0048561959
B11: 6 | C11: -5.5 | D11: =(C11-Foglio4!$J$10-Foglio4!$J$9*B11)^2 -> 0.0050029744
B12: 7 | C12: -5.25 | D12: =(C12-Foglio4!$J$10-Foglio4!$J$9*B12)^2 -> 0.044584249
B13: 8 | C13: -4.5 | D13: =(C13-Foglio4!$J$10-Foglio4!$J$9*B13)^2 -> 0.022032075
B14: 9 | C14: -4.25 | D14: =(C14-Foglio4!$J$10-Foglio4!$J$9*B14)^2 -> 6.4223191e-05
B15: 10 | C15: -4.25 | D15: =(C15-Foglio4!$J$10-Foglio4!$J$9*B15)^2 -> 0.14623296
B16: 11 | C16: -3.25 | D16: =(C16-Foglio4!$J$10-Foglio4!$J$9*B16)^2 -> 0.051609708
... B45: 40 | C45: 8 | D45: =(C45-Foglio4!$J$10-Foglio4!$J$9*B45)^2 -> 0.024041205
D47: devsty
D48: =SQRT(SUM(D5:D45)/41) -> 0.26615796
